BEGIN:VCALENDAR
VERSION:2.0
PRODID:-//renée a. schuls-jacobson - ECPv6.15.20//NONSGML v1.0//EN
CALSCALE:GREGORIAN
METHOD:PUBLISH
X-WR-CALNAME:renée a. schuls-jacobson
X-ORIGINAL-URL:https://www.rasjacobson.store
X-WR-CALDESC:Events for renée a. schuls-jacobson
REFRESH-INTERVAL;VALUE=DURATION:PT1H
X-Robots-Tag:noindex
X-PUBLISHED-TTL:PT1H
BEGIN:VTIMEZONE
TZID:America/New_York
BEGIN:DAYLIGHT
TZOFFSETFROM:-0500
TZOFFSETTO:-0400
TZNAME:EDT
DTSTART:20200308T070000
END:DAYLIGHT
BEGIN:STANDARD
TZOFFSETFROM:-0400
TZOFFSETTO:-0500
TZNAME:EST
DTSTART:20201101T060000
END:STANDARD
BEGIN:DAYLIGHT
TZOFFSETFROM:-0500
TZOFFSETTO:-0400
TZNAME:EDT
DTSTART:20210314T070000
END:DAYLIGHT
BEGIN:STANDARD
TZOFFSETFROM:-0400
TZOFFSETTO:-0500
TZNAME:EST
DTSTART:20211107T060000
END:STANDARD
BEGIN:DAYLIGHT
TZOFFSETFROM:-0500
TZOFFSETTO:-0400
TZNAME:EDT
DTSTART:20220313T070000
END:DAYLIGHT
BEGIN:STANDARD
TZOFFSETFROM:-0400
TZOFFSETTO:-0500
TZNAME:EST
DTSTART:20221106T060000
END:STANDARD
END:VTIMEZONE
BEGIN:VEVENT
DTSTART;TZID=America/New_York:20211106T153000
DTEND;TZID=America/New_York:20211106T180000
DTSTAMP:20260421T230333
CREATED:20210831T143427Z
LAST-MODIFIED:20211018T204614Z
UID:10000004-1636212600-1636221600@www.rasjacobson.store
SUMMARY:PSYCHIATRIZED BOOK TALK in WAYNE COUNTY
DESCRIPTION:Local author Renée Schuls-Jacobson will read from her new memoir PSYCHIATRIZED: WAKING UP AFTER A DECADE OF BAD MEDICINE and speak about her horrifying experience coming off of what is generally considered “a low dose” of clonazepam\, a commonly prescribed anti-anxiety medication. She will talk about the healing modalities she used to help her reclaim her life & step into her highest power. \nIf you are currently taking an anti-anxiety drug or anti-depressant\, you will not want to miss this talk. \nA limited number of books will be available to purchase at the event. The author will sign books & will have a curated collection of artwork available to purchase\, too. \nTo learn more about the author\, go to www.rasjacobson.store. \nNOTE: The barn is NOT winterized. Please dress accordingly & follow CDC guidelines. \n 
URL:https://www.rasjacobson.store/event/wayne-county-book-talk/
LOCATION:Fig Hollow Barn\, 880 Yellow Mills Rd\, Palmyra\, NY\, 14522
CATEGORIES:BOOK TALK
ATTACH;FMTTYPE=image/jpeg:https://www.rasjacobson.store/wp-content/uploads/2021/08/COVER1.jpg
ORGANIZER;CN="Renee Schuls-Jacobson":MAILTO:rasjacobson@gmail.com
END:VEVENT
END:VCALENDAR